BEGIN:VCALENDAR
VERSION:2.0
PRODID:-//The Beatsheet - ECPv6.15.20//NONSGML v1.0//EN
CALSCALE:GREGORIAN
METHOD:PUBLISH
X-ORIGINAL-URL:https://thebeatsheet.com.au
X-WR-CALDESC:Events for The Beatsheet
REFRESH-INTERVAL;VALUE=DURATION:PT1H
X-Robots-Tag:noindex
X-PUBLISHED-TTL:PT1H
BEGIN:VTIMEZONE
TZID:Australia/Brisbane
BEGIN:STANDARD
TZOFFSETFROM:+1000
TZOFFSETTO:+1000
TZNAME:AEST
DTSTART:20230101T000000
END:STANDARD
END:VTIMEZONE
BEGIN:VEVENT
DTSTART;VALUE=DATE:20240604
DTEND;VALUE=DATE:20240605
DTSTAMP:20260424T004921
CREATED:20240522T230228Z
LAST-MODIFIED:20240522T230228Z
UID:8923-1717459200-1717545599@thebeatsheet.com.au
SUMMARY:CCA Early Career Workshop 2024
DESCRIPTION:Tuesday 4 June 9-5 at Tamworth. $55 pp. \nIf you are a consultant\, a researcher\, or a broader industry member who is just starting out – this workshop is for you. The day includes: \n\nUnderstanding your client.\nBeing an effective team member / employee.\nDeveloping your support network\, and surviving and thriving in rural communities.\n\nFor more information and to register\, visit the GRDC website.
URL:https://thebeatsheet.com.au/event/cca-early-career-workshop-2024/
CATEGORIES:workshop
END:VEVENT
BEGIN:VEVENT
DTSTART;TZID=Australia/Brisbane:20240604T100000
DTEND;TZID=Australia/Brisbane:20240604T113000
DTSTAMP:20260424T004921
CREATED:20240528T011228Z
LAST-MODIFIED:20240528T011236Z
UID:8926-1717495200-1717500600@thebeatsheet.com.au
SUMMARY:GRDC online update - includes aerial application and drones
DESCRIPTION:Free GRDC webinar on Tuesday 4 June from 10-11:30 am AEST. Topics include: \n\nIncreasing momentum behind on-farm sustainability accreditation and developing market signals.  ISCC canola standards and market access issues when selling canola overseas.  Rosemary Richards (Sustainable Grain Australia)\nAerial application in broadacre crop production. Scott Mackie (South East Air Ag)\n\nUse & misuse\nCommunications between growers and the pilot\nwhat’s needed & expected by the pilot and what do growers need to ask for in return?\nDo agronomists need to change recommendations if applying by air?\nGetting good spray jobs by air vs poorer outcomes. How can growers help?\n\n\nDrones for spraying\, weed mapping & other uses – licensing\, uses & limitations. Tristan Steventon (Stevtech) & Aaron Parker (Aussie Drones)\n\nFor more information and to book\, visit the GRDC website.
URL:https://thebeatsheet.com.au/event/grdc-online-update-includes-aerial-application-and-drones/
CATEGORIES:update
END:VEVENT
BEGIN:VEVENT
DTSTART;TZID=Australia/Brisbane:20240611T090000
DTEND;TZID=Australia/Brisbane:20240611T103000
DTSTAMP:20260424T004921
CREATED:20240522T223612Z
LAST-MODIFIED:20240522T223612Z
UID:8921-1718096400-1718101800@thebeatsheet.com.au
SUMMARY:GRDC Grains Research Update\, online – Grain storage update for the northern & southern regions
DESCRIPTION:Free webinar 9-10:30 on Tuesday 11 June on: \n\nAeration system design – The uses and limitations of existing aeration systems & questions to ask when purchasing or retrofitting. Alex Conway (GRDC Grain Storage Extension Team)\n\nGrain type & fan performance\nFan performance & motor limitations\nAirflow\nCooling results & air flow rates.\n\n\nVenting after fumigation – research comparing trial results with label directions & buyer needs. Manoj Nayak (QDAF)\n\nVent time\nMeasuring gas clearance\nPlanning fumigations.\n\n\nFumigating & venting grain bags after phosphine or sulfuryl fluoride – market drivers for fumigation\, passive venting & planning equipment & time. Mark Earles (GRDC Grain Storage Extension Team)\nInsect resistance to fumigants & protectants – recent trends and guidance for management. Brodie Foster (QDAF)\nQ & A. Chris Warrick (GRDC Stored Grain Extension Team).\n\nFor more information and to register\, visit the GRDC website.
URL:https://thebeatsheet.com.au/event/grdc-grains-research-update-online-grain-storage-update-for-the-northern-southern-regions/
CATEGORIES:update
END:VEVENT
BEGIN:VEVENT
DTSTART;VALUE=DATE:20240625
DTEND;VALUE=DATE:20240627
DTSTAMP:20260424T004921
CREATED:20240522T223118Z
LAST-MODIFIED:20240522T223118Z
UID:8917-1719273600-1719446399@thebeatsheet.com.au
SUMMARY:AFREN – managing foliar diseases and fungicide resistance workshop – Wagga Wagga
DESCRIPTION:25-26 June 2024\, covering: \n\nCereal growth stages and spray decisions\nWhere different fungicides fit\nFungicide resistance management and resources\nIntegrating fungicides\, varieties\, epidemiology\, and seasons\nCereal canopy management interactions with foliar disease decision making\nManagement strategies that consider the underlying risk of fungicide resistance\nStrategies for managing SDHI and other resistance issues\, including net blotches in barley and triazole resistance in powdery mildew\nCanola disease management & fungicide resistance considerations.\n\nAFREN (Australian Fungicide Resistance Extension Network) small group workshops are targeted to experienced agronomists\, but interested growers are welcome to register. \nParticipant numbers are limited to ensure active participation and discussion\, so registration is essential to secure your place. For more information\, visit the GRDC website.
URL:https://thebeatsheet.com.au/event/afren-managing-foliar-diseases-and-fungicide-resistance-workshop-wagga-wagga/
CATEGORIES:workshop
END:VEVENT
BEGIN:VEVENT
DTSTART;VALUE=DATE:20240627
DTEND;VALUE=DATE:20240629
DTSTAMP:20260424T004921
CREATED:20240522T223322Z
LAST-MODIFIED:20240522T223322Z
UID:8919-1719446400-1719619199@thebeatsheet.com.au
SUMMARY:AFREN – managing foliar diseases and fungicide resistance workshop - Dubbo
DESCRIPTION:27-28 June 2024\, covering: \n\nCereal growth stages and spray decisions\nWhere different fungicides fit\nFungicide resistance management and resources\nIntegrating fungicides\, varieties\, epidemiology\, and seasons\nCereal canopy management interactions with foliar disease decision making\nManagement strategies that consider the underlying risk of fungicide resistance\nStrategies for managing SDHI and other resistance issues\, including net blotches in barley and triazole resistance in powdery mildew\nCanola disease management & fungicide resistance considerations\n\nAFREN (Australian Fungicide Resistance Extension Network) small group workshops are targeted to experienced agronomists\, but interested growers are welcome to register. \nParticipant numbers are limited to ensure active participation and discussion\, so registration is essential to secure your place. For more information\, visit the GRDC website.
URL:https://thebeatsheet.com.au/event/afren-managing-foliar-diseases-and-fungicide-resistance-workshop-dubbo/
CATEGORIES:workshop
END:VEVENT
END:VCALENDAR