BEGIN:VCALENDAR
VERSION:2.0
PRODID:-//The Beatsheet - ECPv6.15.20//NONSGML v1.0//EN
CALSCALE:GREGORIAN
METHOD:PUBLISH
X-WR-CALNAME:The Beatsheet
X-ORIGINAL-URL:https://thebeatsheet.com.au
X-WR-CALDESC:Events for The Beatsheet
REFRESH-INTERVAL;VALUE=DURATION:PT1H
X-Robots-Tag:noindex
X-PUBLISHED-TTL:PT1H
BEGIN:VTIMEZONE
TZID:Australia/Brisbane
BEGIN:STANDARD
TZOFFSETFROM:+1000
TZOFFSETTO:+1000
TZNAME:AEST
DTSTART:20230101T000000
END:STANDARD
END:VTIMEZONE
BEGIN:VEVENT
DTSTART;VALUE=DATE:20240131
DTEND;VALUE=DATE:20240202
DTSTAMP:20260424T054633
CREATED:20240118T025836Z
LAST-MODIFIED:20240118T025836Z
UID:8759-1706659200-1706831999@thebeatsheet.com.au
SUMMARY:Mungbean Agronomy Course – Darling Downs
DESCRIPTION:Mungbean agronomists\, growers and AMA members are invited to attend a 2-day agronomy best practice training with industry professionals. \nHeld at the Department of Agriculture and Fisheries (DAF) offices (203 Tor St\, Toowoomba):\nWednesday 31 Jan from 9.00 am to 5.00 pm\nThursday 1 Feb from 8.00 am to 4.00 pm. \nCost: $495 pp (GST inc)\, includes catering and an Agronomy manual.\nFor more information\, visit https://www.trybooking.com/events/landing/1154109
URL:https://thebeatsheet.com.au/event/mungbean-agronomy-course-darling-downs/
END:VEVENT
BEGIN:VEVENT
DTSTART;VALUE=DATE:20240214
DTEND;VALUE=DATE:20240216
DTSTAMP:20260424T054633
CREATED:20231203T231713Z
LAST-MODIFIED:20231203T231713Z
UID:8741-1707868800-1708041599@thebeatsheet.com.au
SUMMARY:GRDC update - Wagga Wagga
DESCRIPTION:14-15 February 2024. Presentations on cereal diseases\, including rust\, Septoria and crown rot included on day 1. \nMore information and registration at the GRDC website.
URL:https://thebeatsheet.com.au/event/grdc-update-wagga-wagga/
CATEGORIES:update
END:VEVENT
BEGIN:VEVENT
DTSTART;TZID=Australia/Brisbane:20240223T090000
DTEND;TZID=Australia/Brisbane:20240223T103000
DTSTAMP:20260424T054633
CREATED:20240219T022131Z
LAST-MODIFIED:20240219T022132Z
UID:8800-1708678800-1708684200@thebeatsheet.com.au
SUMMARY:GRDC Online Update – FAW management considerations and risk assessment
DESCRIPTION:GRDC are hosting this free webinar on Friday 23 February\, starting at 9am AEST (10am NSW\, 9:30am ACDT\, 7am AWST).  Speakers include: \n\nRoss Pomroy (Nutrien Ag Solutions\, Dalby)\nJoe Eyre (University of Qld\, QAAFI)\nMelina Miles (Qld Department of Agriculture and Fisheries)\n\nFor more information and to register\, visit the GRDC website
URL:https://thebeatsheet.com.au/event/grdc-online-update-faw-management-considerations-and-risk-assessment/
END:VEVENT
BEGIN:VEVENT
DTSTART;VALUE=DATE:20240228
DTEND;VALUE=DATE:20240229
DTSTAMP:20260424T054633
CREATED:20231203T231954Z
LAST-MODIFIED:20231203T232431Z
UID:8743-1709078400-1709164799@thebeatsheet.com.au
SUMMARY:GRDC update - Baradine
DESCRIPTION:28 February 2024. Includes a session on fusarium crown rot. \nMore information and registration at the GRDC website.
URL:https://thebeatsheet.com.au/event/grdc-update-baradine/
CATEGORIES:update
END:VEVENT
BEGIN:VEVENT
DTSTART;VALUE=DATE:20240229
DTEND;VALUE=DATE:20240302
DTSTAMP:20260424T054633
CREATED:20231203T232415Z
LAST-MODIFIED:20231203T232415Z
UID:8745-1709164800-1709337599@thebeatsheet.com.au
SUMMARY:GRDC update: Dubbo
DESCRIPTION:Thursday 29 February and Friday 1 March 2024. Sessions include aphid management\, soil borne diseases\, crown rot\, net blotch\, rust\, and sclerotinia. \nMore information and registration at the GRDC website.
URL:https://thebeatsheet.com.au/event/grdc-update-dubbo/
CATEGORIES:update
END:VEVENT
END:VCALENDAR