BEGIN:VCALENDAR
VERSION:2.0
PRODID:-//The Beatsheet - ECPv6.15.20//NONSGML v1.0//EN
CALSCALE:GREGORIAN
METHOD:PUBLISH
X-WR-CALNAME:The Beatsheet
X-ORIGINAL-URL:https://thebeatsheet.com.au
X-WR-CALDESC:Events for The Beatsheet
REFRESH-INTERVAL;VALUE=DURATION:PT1H
X-Robots-Tag:noindex
X-PUBLISHED-TTL:PT1H
BEGIN:VTIMEZONE
TZID:Australia/Brisbane
BEGIN:STANDARD
TZOFFSETFROM:+1000
TZOFFSETTO:+1000
TZNAME:AEST
DTSTART:20190101T000000
END:STANDARD
END:VTIMEZONE
BEGIN:VEVENT
DTSTART;TZID=Australia/Brisbane:20200527T160000
DTEND;TZID=Australia/Brisbane:20200527T170000
DTSTAMP:20260424T061145
CREATED:20200521T010230Z
LAST-MODIFIED:20200521T024051Z
UID:6089-1590595200-1590598800@thebeatsheet.com.au
SUMMARY:Northern grains region pest management seasonal update (QLD)
DESCRIPTION:This summer season has been memorable for a number of reasons\, not all of them good. \nPlease join DAF entomologists Melina Miles and Hugh Brier\, DAF pathologist Lisa Kelly and NSW DPI entomologist Zorica Duric as they provide an overview of issues encountered in summer crops. They will also cover things to consider as winter approaches. \nThe session will be interactive\, with a view to answering as many of your questions as possible. \nPresentations will cover topics selected from field observations and industry enquiries: \n\nSummer and autumn pest outbreaks in grains and pulse crops\nSummer pulse disease review\nAphid update\nFall armyworm in Australia – overview of experience to date\nPotential issues for the winter season.\n\nAttendees are encouraged to fill out the questions area at registration or submit questions by email prior to the session (by 5pm Monday 25th)\, as questions on the day may be limited by time. \nNSW DPI will be running a similar session focused on issues in NSW on 3 June\, 2020. \nDownload the flyer   |    Register for the update. \nThis update is supported by IPMforGrains: Best Practice Insect Pest Management\, delivered by the National Pest Information Network (DAF\, NSW DPI\, cesar\, SARDI and DPIRD) with GRDC investment and in-kind contributions from participating organisations.
URL:https://thebeatsheet.com.au/event/northern-grains-region-pest-management-seasonal-update/
END:VEVENT
END:VCALENDAR