BEGIN:VCALENDAR
VERSION:2.0
PRODID:-//The Beatsheet - ECPv6.15.20//NONSGML v1.0//EN
CALSCALE:GREGORIAN
METHOD:PUBLISH
X-WR-CALNAME:The Beatsheet
X-ORIGINAL-URL:https://thebeatsheet.com.au
X-WR-CALDESC:Events for The Beatsheet
REFRESH-INTERVAL;VALUE=DURATION:PT1H
X-Robots-Tag:noindex
X-PUBLISHED-TTL:PT1H
BEGIN:VTIMEZONE
TZID:Australia/Brisbane
BEGIN:STANDARD
TZOFFSETFROM:+1000
TZOFFSETTO:+1000
TZNAME:AEST
DTSTART:20230101T000000
END:STANDARD
END:VTIMEZONE
BEGIN:VEVENT
DTSTART;TZID=Australia/Brisbane:20241023T130000
DTEND;TZID=Australia/Brisbane:20241023T134500
DTSTAMP:20260423T180628
CREATED:20241009T022114Z
LAST-MODIFIED:20241009T022114Z
UID:9107-1729688400-1729691100@thebeatsheet.com.au
SUMMARY:GRDC Grains Research Update\, online – Pre-harvest grain storage health check
DESCRIPTION:With harvest looming this livestream will address timely factors that will impact your grain storage outcomes. \nPreventing issues is always better than dealing with them and the loss they cause. \nTopics will include high impact hygiene\, this year’s protectant choices and application\, retrofitting and utilising aeration cooling. \nJoin in the conversation with grain storage specialist Chris Warrick\, Primary Business. \nTo register for this free online event\, visit the GRDC website.
URL:https://thebeatsheet.com.au/event/grdc-grains-research-update-online-pre-harvest-grain-storage-health-check/
CATEGORIES:webinar
END:VEVENT
END:VCALENDAR