BEGIN:VCALENDAR
VERSION:2.0
PRODID:-//The Beatsheet - ECPv6.15.20//NONSGML v1.0//EN
CALSCALE:GREGORIAN
METHOD:PUBLISH
X-ORIGINAL-URL:https://thebeatsheet.com.au
X-WR-CALDESC:Events for The Beatsheet
REFRESH-INTERVAL;VALUE=DURATION:PT1H
X-Robots-Tag:noindex
X-PUBLISHED-TTL:PT1H
BEGIN:VTIMEZONE
TZID:Australia/Brisbane
BEGIN:STANDARD
TZOFFSETFROM:+1000
TZOFFSETTO:+1000
TZNAME:AEST
DTSTART:20230101T000000
END:STANDARD
END:VTIMEZONE
BEGIN:VEVENT
DTSTART;TZID=Australia/Brisbane:20240611T090000
DTEND;TZID=Australia/Brisbane:20240611T103000
DTSTAMP:20260424T022913
CREATED:20240522T223612Z
LAST-MODIFIED:20240522T223612Z
UID:8921-1718096400-1718101800@thebeatsheet.com.au
SUMMARY:GRDC Grains Research Update\, online – Grain storage update for the northern & southern regions
DESCRIPTION:Free webinar 9-10:30 on Tuesday 11 June on: \n\nAeration system design – The uses and limitations of existing aeration systems & questions to ask when purchasing or retrofitting. Alex Conway (GRDC Grain Storage Extension Team)\n\nGrain type & fan performance\nFan performance & motor limitations\nAirflow\nCooling results & air flow rates.\n\n\nVenting after fumigation – research comparing trial results with label directions & buyer needs. Manoj Nayak (QDAF)\n\nVent time\nMeasuring gas clearance\nPlanning fumigations.\n\n\nFumigating & venting grain bags after phosphine or sulfuryl fluoride – market drivers for fumigation\, passive venting & planning equipment & time. Mark Earles (GRDC Grain Storage Extension Team)\nInsect resistance to fumigants & protectants – recent trends and guidance for management. Brodie Foster (QDAF)\nQ & A. Chris Warrick (GRDC Stored Grain Extension Team).\n\nFor more information and to register\, visit the GRDC website.
URL:https://thebeatsheet.com.au/event/grdc-grains-research-update-online-grain-storage-update-for-the-northern-southern-regions/
CATEGORIES:update
END:VEVENT
END:VCALENDAR