BEGIN:VCALENDAR
VERSION:2.0
PRODID:-//The Beatsheet - ECPv6.15.20//NONSGML v1.0//EN
CALSCALE:GREGORIAN
METHOD:PUBLISH
X-ORIGINAL-URL:https://thebeatsheet.com.au
X-WR-CALDESC:Events for The Beatsheet
REFRESH-INTERVAL;VALUE=DURATION:PT1H
X-Robots-Tag:noindex
X-PUBLISHED-TTL:PT1H
BEGIN:VTIMEZONE
TZID:Australia/Sydney
BEGIN:STANDARD
TZOFFSETFROM:+1100
TZOFFSETTO:+1000
TZNAME:AEST
DTSTART:20230401T160000
END:STANDARD
BEGIN:DAYLIGHT
TZOFFSETFROM:+1000
TZOFFSETTO:+1100
TZNAME:AEDT
DTSTART:20230930T160000
END:DAYLIGHT
BEGIN:STANDARD
TZOFFSETFROM:+1100
TZOFFSETTO:+1000
TZNAME:AEST
DTSTART:20240406T160000
END:STANDARD
BEGIN:DAYLIGHT
TZOFFSETFROM:+1000
TZOFFSETTO:+1100
TZNAME:AEDT
DTSTART:20241005T160000
END:DAYLIGHT
BEGIN:STANDARD
TZOFFSETFROM:+1100
TZOFFSETTO:+1000
TZNAME:AEST
DTSTART:20250405T160000
END:STANDARD
BEGIN:DAYLIGHT
TZOFFSETFROM:+1000
TZOFFSETTO:+1100
TZNAME:AEDT
DTSTART:20251004T160000
END:DAYLIGHT
END:VTIMEZONE
BEGIN:VEVENT
DTSTART;TZID=Australia/Sydney:20240404T130000
DTEND;TZID=Australia/Sydney:20240404T140000
DTSTAMP:20260424T035830
CREATED:20240328T004059Z
LAST-MODIFIED:20240328T004059Z
UID:8840-1712235600-1712239200@thebeatsheet.com.au
SUMMARY:Fungicide resistance update webinar (net blotch)
DESCRIPTION:AFREN Fungicide Resistance Update Webinar – NET BLOTCH: Monitoring of Net and spot form net blotch resistance to fungicides. \nThursday 4 April 1-2pm (AEDT) \nFor more information and to register\, visit the GRDC website.
URL:https://thebeatsheet.com.au/event/fungicide-resistance-update-webinar-net-blotch/
END:VEVENT
END:VCALENDAR