BEGIN:VCALENDAR
VERSION:2.0
PRODID:-//The Beatsheet - ECPv6.15.20//NONSGML v1.0//EN
CALSCALE:GREGORIAN
METHOD:PUBLISH
X-WR-CALNAME:The Beatsheet
X-ORIGINAL-URL:https://thebeatsheet.com.au
X-WR-CALDESC:Events for The Beatsheet
REFRESH-INTERVAL;VALUE=DURATION:PT1H
X-Robots-Tag:noindex
X-PUBLISHED-TTL:PT1H
BEGIN:VTIMEZONE
TZID:Australia/Brisbane
BEGIN:STANDARD
TZOFFSETFROM:+1000
TZOFFSETTO:+1000
TZNAME:AEST
DTSTART:20220101T000000
END:STANDARD
END:VTIMEZONE
BEGIN:VEVENT
DTSTART;TZID=Australia/Brisbane:20230808T090000
DTEND;TZID=Australia/Brisbane:20230808T103000
DTSTAMP:20260424T170132
CREATED:20230724T044253Z
LAST-MODIFIED:20230724T044253Z
UID:8638-1691485200-1691490600@thebeatsheet.com.au
SUMMARY:GRDC online update – foliar diseases in oats and crown-rot in cereals
DESCRIPTION:GRDC’s online disease update webinar starts at 9am (AEST) and is free of charge. \nTopics: \n\nFoliar disease management in oats – what’s happening & crystal ball issues for the rest of this season. Tara Garrard (SARDI) & Brad Baxter (NSW DPI)\nFusarium (crown-rot) – what has happened in 2023 and inoculum load issues for 2024. Steven Simpfendorfer (NSW DPI)\n\nFor more information and to register\, visit the GRDC website.
URL:https://thebeatsheet.com.au/event/grdc-online-update-foliar-diseases-in-oats-and-crown-rot-in-cereals/
CATEGORIES:webinar
END:VEVENT
END:VCALENDAR