BEGIN:VCALENDAR
VERSION:2.0
PRODID:-//The Beatsheet - ECPv6.15.20//NONSGML v1.0//EN
CALSCALE:GREGORIAN
METHOD:PUBLISH
X-ORIGINAL-URL:https://thebeatsheet.com.au
X-WR-CALDESC:Events for The Beatsheet
REFRESH-INTERVAL;VALUE=DURATION:PT1H
X-Robots-Tag:noindex
X-PUBLISHED-TTL:PT1H
BEGIN:VTIMEZONE
TZID:Australia/Brisbane
BEGIN:STANDARD
TZOFFSETFROM:+1000
TZOFFSETTO:+1000
TZNAME:AEST
DTSTART:20210101T000000
END:STANDARD
END:VTIMEZONE
BEGIN:VEVENT
DTSTART;TZID=Australia/Brisbane:20221122T083000
DTEND;TZID=Australia/Brisbane:20221122T153000
DTSTAMP:20260425T065551
CREATED:20220823T003244Z
LAST-MODIFIED:20220823T003311Z
UID:8036-1669105800-1669131000@thebeatsheet.com.au
SUMMARY:GRDC Spray Days – Emerald
DESCRIPTION:GRDC Spray Days cover the latest developments in spray application technology and stewardship for grain growers and their advisers.  GRDC Spray Days provide a platform for growers to interact with industry to hear about\, see and discuss spray technology innovations with industry experts\, enabling growers to make more informed decisions on spray equipment investment and how to use technology for optimum benefit. \nMornings are formatted as presentations and discussions with topics selected by a local panel.  In the afternoon trade display session\, growers can focus in on the technologies they are most interested in\, with direct access to leading industry technology providers. \nCost is free (morning tea and lunch provided)\, but registration essential for catering purposes. \nFor more information or to register\, visit the GRDC website.
URL:https://thebeatsheet.com.au/event/grdc-spray-days-emerald/
CATEGORIES:workshop
END:VEVENT
END:VCALENDAR