BEGIN:VCALENDAR
VERSION:2.0
PRODID:-//The Beatsheet - ECPv6.15.20//NONSGML v1.0//EN
CALSCALE:GREGORIAN
METHOD:PUBLISH
X-ORIGINAL-URL:https://thebeatsheet.com.au
X-WR-CALDESC:Events for The Beatsheet
REFRESH-INTERVAL;VALUE=DURATION:PT1H
X-Robots-Tag:noindex
X-PUBLISHED-TTL:PT1H
BEGIN:VTIMEZONE
TZID:Australia/Brisbane
BEGIN:STANDARD
TZOFFSETFROM:+1000
TZOFFSETTO:+1000
TZNAME:AEST
DTSTART:20210101T000000
END:STANDARD
END:VTIMEZONE
BEGIN:VEVENT
DTSTART;TZID=Australia/Brisbane:20221012T090000
DTEND;TZID=Australia/Brisbane:20221012T150000
DTSTAMP:20260425T083428
CREATED:20220920T043026Z
LAST-MODIFIED:20220920T043026Z
UID:8142-1665565200-1665586800@thebeatsheet.com.au
SUMMARY:Insect workshop (Toowoomba)
DESCRIPTION:A workshop on insect identification and management will be held at the Department of Agriculture and Fisheries\, Tor St complex on Wednesday 12 October. \nThis is the first of three to be held in 2022\, with the second occurring in Narrabri on Wednesday 19 October\, and the third TBA. \nTo register your interest visit https://thebeatsheet.com.au/workshop-registrations-2022 \n 
URL:https://thebeatsheet.com.au/event/insect-workshop-toowoomba-2/
CATEGORIES:workshop
END:VEVENT
END:VCALENDAR